BEGIN:VCALENDAR
VERSION:2.0
PRODID:-//Clackamas Education Service District - ECPv6.15.20//NONSGML v1.0//EN
CALSCALE:GREGORIAN
METHOD:PUBLISH
X-ORIGINAL-URL:https://www.clackesd.org
X-WR-CALDESC:Events for Clackamas Education Service District
REFRESH-INTERVAL;VALUE=DURATION:PT1H
X-Robots-Tag:noindex
X-PUBLISHED-TTL:PT1H
BEGIN:VTIMEZONE
TZID:UTC
BEGIN:STANDARD
TZOFFSETFROM:+0000
TZOFFSETTO:+0000
TZNAME:UTC
DTSTART:20250101T000000
END:STANDARD
END:VTIMEZONE
BEGIN:VEVENT
DTSTART;TZID=UTC:20260309T080000
DTEND;TZID=UTC:20260309T150000
DTSTAMP:20260423T013825
CREATED:20251119T184931Z
LAST-MODIFIED:20260309T142015Z
UID:10001634-1773043200-1773068400@www.clackesd.org
SUMMARY:Introduction to Building Thinking Classrooms In-Person Workshop for Secondary Teachers
DESCRIPTION:This worksh..
URL:https://www.clackesd.org/events/introduction-to-building-thinking-classrooms-in-person-workshop-for-secondary-teachers-4/
LOCATION:Gardiner Middle School
CATEGORIES:Professional Development
END:VEVENT
END:VCALENDAR