BEGIN:VCALENDAR
VERSION:2.0
PRODID:-//Clackamas Education Service District - ECPv6.15.20//NONSGML v1.0//EN
CALSCALE:GREGORIAN
METHOD:PUBLISH
X-ORIGINAL-URL:https://www.clackesd.org
X-WR-CALDESC:Events for Clackamas Education Service District
REFRESH-INTERVAL;VALUE=DURATION:PT1H
X-Robots-Tag:noindex
X-PUBLISHED-TTL:PT1H
BEGIN:VTIMEZONE
TZID:UTC
BEGIN:STANDARD
TZOFFSETFROM:+0000
TZOFFSETTO:+0000
TZNAME:UTC
DTSTART:20250101T000000
END:STANDARD
END:VTIMEZONE
BEGIN:VEVENT
DTSTART;TZID=UTC:20260304T143000
DTEND;TZID=UTC:20260304T153000
DTSTAMP:20260423T014104
CREATED:20250924T235022Z
LAST-MODIFIED:20260304T145009Z
UID:10001597-1772634600-1772638200@www.clackesd.org
SUMMARY:Accommodations\, Modifications\, & Accessibility Supports Session 1
DESCRIPTION:The participant will gain a knowledge of the requirements of a..
URL:https://www.clackesd.org/events/accommodations-modifications-accessibility-supports-session-1/
LOCATION:Clackamas ESD – Online/Virtual – Online/Virtual
CATEGORIES:Professional Development
END:VEVENT
BEGIN:VEVENT
DTSTART;TZID=UTC:20260304T153000
DTEND;TZID=UTC:20260304T163000
DTSTAMP:20260423T014104
CREATED:20250924T235022Z
LAST-MODIFIED:20260304T160517Z
UID:10001598-1772638200-1772641800@www.clackesd.org
SUMMARY:Accommodations\, Modifications\, & Accessibility Supports Session 2
DESCRIPTION:The participant will gain a knowledge of the requirements of a..
URL:https://www.clackesd.org/events/accommodations-modifications-accessibility-supports-session-2/
LOCATION:Clackamas ESD – Online/Virtual – Online/Virtual
CATEGORIES:Professional Development
END:VEVENT
BEGIN:VEVENT
DTSTART;TZID=UTC:20260304T180000
DTEND;TZID=UTC:20260304T210000
DTSTAMP:20260423T014104
CREATED:20251201T103526Z
LAST-MODIFIED:20260304T202019Z
UID:10001665-1772647200-1772658000@www.clackesd.org
SUMMARY:91622 La integración de prácticas fundamentales socioemocionales en su programa (Integrating Social-Emotional Foundational Practices throughout Your Program
DESCRIPTION:Esta capacitación explorará pr&a..
URL:https://www.clackesd.org/events/91622-la-integracion-de-practicas-fundamentales-socioemocionales-en-su-programa-integrating-social-emotional-foundational-practices-throughout-your-program/
LOCATION:Clackamas ESD – Online/Virtual – Online/Virtual
CATEGORIES:Professional Development
END:VEVENT
END:VCALENDAR