BEGIN:VCALENDAR
VERSION:2.0
PRODID:-//Clackamas Education Service District - ECPv6.15.20//NONSGML v1.0//EN
CALSCALE:GREGORIAN
METHOD:PUBLISH
X-WR-CALNAME:Clackamas Education Service District
X-ORIGINAL-URL:https://www.clackesd.org
X-WR-CALDESC:Events for Clackamas Education Service District
REFRESH-INTERVAL;VALUE=DURATION:PT1H
X-Robots-Tag:noindex
X-PUBLISHED-TTL:PT1H
BEGIN:VTIMEZONE
TZID:UTC
BEGIN:STANDARD
TZOFFSETFROM:+0000
TZOFFSETTO:+0000
TZNAME:UTC
DTSTART:20250101T000000
END:STANDARD
END:VTIMEZONE
BEGIN:VTIMEZONE
TZID:America/Los_Angeles
BEGIN:DAYLIGHT
TZOFFSETFROM:-0800
TZOFFSETTO:-0700
TZNAME:PDT
DTSTART:20250309T100000
END:DAYLIGHT
BEGIN:STANDARD
TZOFFSETFROM:-0700
TZOFFSETTO:-0800
TZNAME:PST
DTSTART:20251102T090000
END:STANDARD
BEGIN:DAYLIGHT
TZOFFSETFROM:-0800
TZOFFSETTO:-0700
TZNAME:PDT
DTSTART:20260308T100000
END:DAYLIGHT
BEGIN:STANDARD
TZOFFSETFROM:-0700
TZOFFSETTO:-0800
TZNAME:PST
DTSTART:20261101T090000
END:STANDARD
BEGIN:DAYLIGHT
TZOFFSETFROM:-0800
TZOFFSETTO:-0700
TZNAME:PDT
DTSTART:20270314T100000
END:DAYLIGHT
BEGIN:STANDARD
TZOFFSETFROM:-0700
TZOFFSETTO:-0800
TZNAME:PST
DTSTART:20271107T090000
END:STANDARD
END:VTIMEZONE
BEGIN:VEVENT
DTSTART;TZID=UTC:20260122T080000
DTEND;TZID=UTC:20260122T150000
DTSTAMP:20260420T051349
CREATED:20251119T175013Z
LAST-MODIFIED:20260122T135020Z
UID:10001631-1769068800-1769094000@www.clackesd.org
SUMMARY:Introduction to Building Thinking Classrooms In-Person Workshop for Elementary Teachers
DESCRIPTION:This worksh..
URL:https://www.clackesd.org/events/introduction-to-building-thinking-classrooms-in-person-workshop-for-elementary-teachers-2/
LOCATION:John McLoughlin Elementary
CATEGORIES:Professional Development
END:VEVENT
BEGIN:VEVENT
DTSTART;TZID=UTC:20260122T180000
DTEND;TZID=UTC:20260122T210000
DTSTAMP:20260420T051349
CREATED:20251201T103522Z
LAST-MODIFIED:20260122T200513Z
UID:10001649-1769104800-1769115600@www.clackesd.org
SUMMARY:92272 Diseño de Estrategias Ambientales para la Gestión Conductual Efectiva (STATE)
DESCRIPTION:Esta capacitación se enfocará en..
URL:https://www.clackesd.org/events/92272-diseno-de-estrategias-ambientales-para-la-gestion-conductual-efectiva-state/
LOCATION:Clackamas ESD – Online/Virtual – Online/Virtual
CATEGORIES:Professional Development
END:VEVENT
BEGIN:VEVENT
DTSTART;TZID=UTC:20260123T083000
DTEND;TZID=UTC:20260123T153000
DTSTAMP:20260420T051349
CREATED:20251027T200427Z
LAST-MODIFIED:20260123T143524Z
UID:10001619-1769157000-1769182200@www.clackesd.org
SUMMARY:Language for Today: A Workshop for ELD Specialists
DESCRIPTION:The job of today’s ELD teacher is a little different than it was a decade ago. Oregon’s standards for English Language Proficiency\, the ..
URL:https://www.clackesd.org/events/language-for-today-a-workshop-for-eld-specialists/
LOCATION:Clackamas ESD – Sunnybrook 13455 SE 97th Ave Clackamas\, OR 97015 – Brightwood Conference Room
CATEGORIES:Professional Development
END:VEVENT
BEGIN:VEVENT
DTSTART;TZID=UTC:20260123T083000
DTEND;TZID=UTC:20260123T153000
DTSTAMP:20260420T051349
CREATED:20251101T002024Z
LAST-MODIFIED:20251211T230514Z
UID:10001623-1769157000-1769182200@www.clackesd.org
SUMMARY:The Writing Revolution 2.0: Advancing Thinking and Writing Through Explicit Instruction in Secondary Schools
DESCRIPTION:Strengthen your students’ analytical thinking and writing with strategies from The Writing Revolution 2.0 by Judith Hochman and Natalie Wex..
URL:https://www.clackesd.org/events/the-writing-revolution-2-0-advancing-thinking-and-writing-through-explicit-instruction-in-secondary-schools/
LOCATION:Clackamas ESD – Sunnybrook 13455 SE 97th Ave Clackamas\, OR 97015 – Brightwood Conference Room
CATEGORIES:Professional Development
END:VEVENT
BEGIN:VEVENT
DTSTART;TZID=America/Los_Angeles:20260123T100000
DTEND;TZID=America/Los_Angeles:20260123T123000
DTSTAMP:20260420T051349
CREATED:20251219T205052Z
LAST-MODIFIED:20251219T205052Z
UID:10001681-1769162400-1769171400@www.clackesd.org
SUMMARY:Free Hearing & Developmental Screenings in Canby
DESCRIPTION:
URL:https://www.clackesd.org/events/free-hearing-developmental-screenings-in-canby-5/
LOCATION:Canby Public Library\, 220 NE 2nd Ave\, Canby\, OR\, 97013
CATEGORIES:Feature on home page,Free Hearing & Developmental Screenings
END:VEVENT
BEGIN:VEVENT
DTSTART;TZID=UTC:20260127T180000
DTEND;TZID=UTC:20260127T210000
DTSTAMP:20260420T051349
CREATED:20251118T015013Z
LAST-MODIFIED:20260127T202018Z
UID:10001629-1769536800-1769547600@www.clackesd.org
SUMMARY:92223 Documenting Observations Confidently and Professionally
DESCRIPTION:Objective observation and documentation will help support the program by tracking each child’s development and progress more accurately. Parti..
URL:https://www.clackesd.org/events/92223-documenting-observations-confidently-and-professionally/
LOCATION:Clackamas ESD – Online/Virtual – Online/Virtual
CATEGORIES:Professional Development
END:VEVENT
BEGIN:VEVENT
DTSTART;TZID=UTC:20260129T080000
DTEND;TZID=UTC:20260129T150000
DTSTAMP:20260420T051349
CREATED:20251125T223514Z
LAST-MODIFIED:20260129T145008Z
UID:10001639-1769673600-1769698800@www.clackesd.org
SUMMARY:Literacy Series (K-12) OSAS Interim Assessments - Session 3
DESCRIPTION:Join the Clackamas ESD Department of Teaching & Learning in welcoming colleagues from ODE—Mariela Salas Bao\, EdD (Office of Research\, A..
URL:https://www.clackesd.org/events/literacy-series-k-12-osas-interim-assessments-session-3/
LOCATION:Clackamas ESD – Sunnybrook – New Era/Springwater (Combined) Conference Room
CATEGORIES:Professional Development
END:VEVENT
BEGIN:VEVENT
DTSTART;TZID=UTC:20260129T180000
DTEND;TZID=UTC:20260129T200000
DTSTAMP:20260420T051349
CREATED:20260120T180523Z
LAST-MODIFIED:20260129T190511Z
UID:10001689-1769709600-1769716800@www.clackesd.org
SUMMARY:Suplentes de Cuidado Infantil de Oregon: Formando conexiones para apoyar el bienestar de las Comunidades de Oregon (STATE)
DESCRIPTION:Esta sesión introduce a los participant..
URL:https://www.clackesd.org/events/suplentes-de-cuidado-infantil-de-oregon-formando-conexiones-para-apoyar-el-bienestar-de-las-comunidades-de-oregon-state/
LOCATION:Clackamas ESD – Online/Virtual – Online/Virtual
CATEGORIES:Professional Development
END:VEVENT
BEGIN:VEVENT
DTSTART;TZID=UTC:20260129T180000
DTEND;TZID=UTC:20260129T210000
DTSTAMP:20260420T051349
CREATED:20260120T180523Z
LAST-MODIFIED:20260129T202012Z
UID:10001688-1769709600-1769720400@www.clackesd.org
SUMMARY:91620 Safe & Sound: Best Practices for Child Supervision
DESCRIPTION:This class will explore methods to implement supervision systems to keep students safe. Active supervision and other considerations of safety will b..
URL:https://www.clackesd.org/events/91620-safe-sound-best-practices-for-child-supervision/
LOCATION:Clackamas ESD – Online/Virtual – Online/Virtual
CATEGORIES:Professional Development
END:VEVENT
BEGIN:VEVENT
DTSTART;VALUE=DATE:20260130
DTEND;VALUE=DATE:20260131
DTSTAMP:20260420T051349
CREATED:20250917T171419Z
LAST-MODIFIED:20250917T171419Z
UID:10001553-1769731200-1769817599@www.clackesd.org
SUMMARY:No evaluation or early intervention services/classes - Planning day
DESCRIPTION:
URL:https://www.clackesd.org/events/no-evaluation-or-early-intervention-services-classes-planning-day-5/
CATEGORIES:EI Program Calendar
END:VEVENT
BEGIN:VEVENT
DTSTART;VALUE=DATE:20260130
DTEND;VALUE=DATE:20260131
DTSTAMP:20260420T051349
CREATED:20250917T173020Z
LAST-MODIFIED:20250917T180047Z
UID:10001577-1769731200-1769817599@www.clackesd.org
SUMMARY:Possible closure of Early Childhood Special Education services/classes - Planning day
DESCRIPTION:
URL:https://www.clackesd.org/events/no-early-childhood-special-education-services-classes-planning-day-5/
CATEGORIES:ECSE Program Calendar
END:VEVENT
BEGIN:VEVENT
DTSTART;TZID=America/Los_Angeles:20260130T100000
DTEND;TZID=America/Los_Angeles:20260130T120000
DTSTAMP:20260420T051349
CREATED:20251217T170148Z
LAST-MODIFIED:20251217T170148Z
UID:10001680-1769767200-1769774400@www.clackesd.org
SUMMARY:Free Hearing & Developmental Screenings in Welches
DESCRIPTION:
URL:https://www.clackesd.org/events/free-hearing-developmental-screenings-in-welches-6/
LOCATION:Hoodland Library\, 24525 E Welches Rd\, Welches\, OR\, 97067
CATEGORIES:Feature on home page,Free Hearing & Developmental Screenings
END:VEVENT
BEGIN:VEVENT
DTSTART;TZID=UTC:20260131T090000
DTEND;TZID=UTC:20260131T150000
DTSTAMP:20260420T051349
CREATED:20251201T103523Z
LAST-MODIFIED:20260131T140525Z
UID:10001650-1769850000-1769871600@www.clackesd.org
SUMMARY:91902 Primeros Auxilios y CPR - Para Infantes y Adultos (Espanol)
DESCRIPTION:Primeros auxilios y RCP (reanimación c..
URL:https://www.clackesd.org/events/91902-primeros-auxilios-y-cpr-para-infantes-y-adultos-espanol/
LOCATION:Clackamas ESD – Sunnybrook
CATEGORIES:Professional Development
END:VEVENT
BEGIN:VEVENT
DTSTART;TZID=UTC:20260202T083000
DTEND;TZID=UTC:20260202T123000
DTSTAMP:20260420T051349
CREATED:20250508T224920Z
LAST-MODIFIED:20260202T120515Z
UID:10001378-1770021000-1770035400@www.clackesd.org
SUMMARY:Initial Clackamas Regional Flight Team (RFT) Training- (Virtual) February 2\, 2026
DESCRIPTION:Initial Clackamas Regional Flight Team (CRFT) Training\nThis school-crisis response workshop is for school personnel w..
URL:https://www.clackesd.org/events/initial-clackamas-regional-flight-team-rft-training-february-2-2026/
LOCATION:Virtual
CATEGORIES:Professional Development
END:VEVENT
BEGIN:VEVENT
DTSTART;TZID=UTC:20260202T180000
DTEND;TZID=UTC:20260202T210000
DTSTAMP:20260420T051349
CREATED:20251201T103523Z
LAST-MODIFIED:20260202T203509Z
UID:10001651-1770055200-1770066000@www.clackesd.org
SUMMARY:92244 Sensory Smarts: Understanding and Supporting Sensory Needs in Infants and Toddlers (STATE)
DESCRIPTION:As educators\, it’s important to know how..
URL:https://www.clackesd.org/events/92244-sensory-smarts-understanding-and-supporting-sensory-needs-in-infants-and-toddlers-state/
LOCATION:Clackamas ESD – Online/Virtual – Online/Virtual
CATEGORIES:Professional Development
END:VEVENT
BEGIN:VEVENT
DTSTART;TZID=UTC:20260205T080000
DTEND;TZID=UTC:20260205T150000
DTSTAMP:20260420T051349
CREATED:20251119T184929Z
LAST-MODIFIED:20260203T223514Z
UID:10001632-1770278400-1770303600@www.clackesd.org
SUMMARY:Introduction to Building Thinking Classrooms In-Person Workshop for Secondary Teachers
DESCRIPTION:This worksh..
URL:https://www.clackesd.org/events/introduction-to-building-thinking-classrooms-in-person-workshop-for-secondary-teachers-3/
LOCATION:Baker Prairie Middle School
CATEGORIES:Professional Development
END:VEVENT
BEGIN:VEVENT
DTSTART;TZID=UTC:20260205T080000
DTEND;TZID=UTC:20260205T150000
DTSTAMP:20260420T051349
CREATED:20260202T170512Z
LAST-MODIFIED:20260205T143526Z
UID:10001693-1770278400-1770303600@www.clackesd.org
SUMMARY:Building Thinking Classrooms for Canby Educators
DESCRIPTION:At this full day training (8 am – 3 pm)\nTeachers will experience
URL:https://www.clackesd.org/events/building-thinking-classrooms-for-canby-educators/
LOCATION:Baker Prairie Middle School
CATEGORIES:Professional Development
END:VEVENT
BEGIN:VEVENT
DTSTART;TZID=UTC:20260205T083000
DTEND;TZID=UTC:20260205T153000
DTSTAMP:20260420T051349
CREATED:20251104T222025Z
LAST-MODIFIED:20260205T143526Z
UID:10001624-1770280200-1770305400@www.clackesd.org
SUMMARY:Making Content Comprehensible: The SIOP Model K-12
DESCRIPTION:Participants will learn to use the SIOP Model\, a planning and teaching framework that will help teachers integrate best teaching practices in their ..
URL:https://www.clackesd.org/events/making-content-comprehensible-the-siop-model-k-12-5/
LOCATION:Clackamas ESD – Sunnybrook 13455 SE 97th Ave Clackamas\, OR 97015 – New Era Conference Room
CATEGORIES:Professional Development
END:VEVENT
BEGIN:VEVENT
DTSTART;TZID=UTC:20260205T180000
DTEND;TZID=UTC:20260205T200000
DTSTAMP:20260420T051349
CREATED:20251201T103523Z
LAST-MODIFIED:20260205T190513Z
UID:10001653-1770314400-1770321600@www.clackesd.org
SUMMARY:92245 Keeping Children Physically Safe (STATE)
DESCRIPTION:This training will examine the requirements fo..
URL:https://www.clackesd.org/events/92245-keeping-children-physically-safe-state/
LOCATION:Clackamas ESD – Online/Virtual – Online/Virtual
CATEGORIES:Professional Development
END:VEVENT
BEGIN:VEVENT
DTSTART;TZID=UTC:20260207T090000
DTEND;TZID=UTC:20260207T150000
DTSTAMP:20260420T051349
CREATED:20251201T103524Z
LAST-MODIFIED:20260207T140521Z
UID:10001654-1770454800-1770476400@www.clackesd.org
SUMMARY:91901 Adult\, Infant\, and Child CPR and First Aid
DESCRIPTION:First aid and CPR (cardio-pulmonary resuscita..
URL:https://www.clackesd.org/events/91901-adult-infant-and-child-cpr-and-first-aid/
LOCATION:Clackamas ESD – Sunnybrook
CATEGORIES:Professional Development
END:VEVENT
BEGIN:VEVENT
DTSTART;TZID=UTC:20260210T180000
DTEND;TZID=UTC:20260210T200000
DTSTAMP:20260420T051349
CREATED:20251201T103524Z
LAST-MODIFIED:20260210T185027Z
UID:10001655-1770746400-1770753600@www.clackesd.org
SUMMARY:92247 Autism 201 (STATE)
DESCRIPTION:Autism 201 reviews information about autism sp..
URL:https://www.clackesd.org/events/92247-autism-201-state/
LOCATION:Clackamas ESD – Online/Virtual – Online/Virtual
CATEGORIES:Professional Development
END:VEVENT
BEGIN:VEVENT
DTSTART;TZID=UTC:20260211T090000
DTEND;TZID=UTC:20260211T113000
DTSTAMP:20260420T051349
CREATED:20250508T224920Z
LAST-MODIFIED:20260210T200519Z
UID:10001379-1770800400-1770809400@www.clackesd.org
SUMMARY:EXPERIENCED Regional Flight Team Training (Virtual) - February 11\, 2026
DESCRIPTION:Experienced Regional Flight Team Training\n	This 2.5 hour training for experienced flight team members\, i..
URL:https://www.clackesd.org/events/experienced-regional-flight-team-training-february-4-2026/
LOCATION:Virtual – TBD
CATEGORIES:Professional Development
END:VEVENT
BEGIN:VEVENT
DTSTART;TZID=UTC:20260211T123000
DTEND;TZID=UTC:20260211T150000
DTSTAMP:20260420T051349
CREATED:20250508T224921Z
LAST-MODIFIED:20260210T200519Z
UID:10001380-1770813000-1770822000@www.clackesd.org
SUMMARY:Regional Flight Team Training -LEADS- (Virtual) February 11\, 2026
DESCRIPTION:Clackamas Regional Flight Team "Leads" Training is designed to support Regional Flight Team members who want to be able to step..
URL:https://www.clackesd.org/events/regional-flight-team-training-leads-february-4-2026/
LOCATION:Virtual
CATEGORIES:Professional Development
END:VEVENT
BEGIN:VEVENT
DTSTART;TZID=UTC:20260211T180000
DTEND;TZID=UTC:20260211T210000
DTSTAMP:20260420T051349
CREATED:20251201T103523Z
LAST-MODIFIED:20260211T203514Z
UID:10001652-1770832800-1770843600@www.clackesd.org
SUMMARY:92084 Planificación de comidas sabrosas en el salón
DESCRIPTION:Esta sesión examina estrategias para pl..
URL:https://www.clackesd.org/events/92084-planificacion-de-comidas-sabrosas-en-el-salon/
LOCATION:Clackamas ESD – Online/Virtual – Online/Virtual
CATEGORIES:Professional Development
END:VEVENT
BEGIN:VEVENT
DTSTART;TZID=UTC:20260212T180000
DTEND;TZID=UTC:20260212T200000
DTSTAMP:20260420T051349
CREATED:20251201T103524Z
LAST-MODIFIED:20260212T193530Z
UID:10001656-1770919200-1770926400@www.clackesd.org
SUMMARY:Child Care Substitutes of Oregon: Forming connections to support the well-being of Oregon's Communities (STATE)
DESCRIPTION:This session introduces participants to the Ch..
URL:https://www.clackesd.org/events/child-care-substitutes-of-oregon-forming-connections-to-support-the-well-being-of-oregons-communities-state/
LOCATION:Clackamas ESD – Online/Virtual – Online/Virtual
CATEGORIES:Professional Development
END:VEVENT
BEGIN:VEVENT
DTSTART;VALUE=DATE:20260213
DTEND;VALUE=DATE:20260214
DTSTAMP:20260420T051349
CREATED:20250917T171515Z
LAST-MODIFIED:20250917T171515Z
UID:10001554-1770940800-1771027199@www.clackesd.org
SUMMARY:No evaluation or early intervention services/classes - Planning day
DESCRIPTION:
URL:https://www.clackesd.org/events/no-evaluation-or-early-intervention-services-classes-planning-day-6/
CATEGORIES:EI Program Calendar
END:VEVENT
BEGIN:VEVENT
DTSTART;VALUE=DATE:20260213
DTEND;VALUE=DATE:20260214
DTSTAMP:20260420T051349
CREATED:20250917T173049Z
LAST-MODIFIED:20250917T180053Z
UID:10001578-1770940800-1771027199@www.clackesd.org
SUMMARY:Possible closure of Early Childhood Special Education services/classes - Planning day
DESCRIPTION:
URL:https://www.clackesd.org/events/no-early-childhood-special-education-services-classes-planning-day-6/
CATEGORIES:ECSE Program Calendar
END:VEVENT
BEGIN:VEVENT
DTSTART;TZID=UTC:20260213T130000
DTEND;TZID=UTC:20260213T150000
DTSTAMP:20260420T051349
CREATED:20250508T224921Z
LAST-MODIFIED:20260213T142025Z
UID:10001381-1770987600-1770994800@www.clackesd.org
SUMMARY:CANCELED - QPR Suicide Prevention Training-February 13\, 2026
DESCRIPTION:QPR (Question. Persuade. Refer.) is a two-hour evidence-based suicide prevention curriculum that teaches individuals to recognize someone at ri..
URL:https://www.clackesd.org/events/qpr-question-persuade-refer-suicide-prevention-training-february-13-2026/
LOCATION:Clackamas ESD – Sunnybrook – Mt. Hope Conference Room
CATEGORIES:Professional Development
END:VEVENT
BEGIN:VEVENT
DTSTART;VALUE=DATE:20260216
DTEND;VALUE=DATE:20260221
DTSTAMP:20260420T051349
CREATED:20250917T171552Z
LAST-MODIFIED:20250917T171552Z
UID:10001555-1771200000-1771631999@www.clackesd.org
SUMMARY:No evaluation or early intervention services/classes
DESCRIPTION:
URL:https://www.clackesd.org/events/no-evaluation-or-early-intervention-services-classes-10/
CATEGORIES:EI Program Calendar
END:VEVENT
BEGIN:VEVENT
DTSTART;VALUE=DATE:20260216
DTEND;VALUE=DATE:20260221
DTSTAMP:20260420T051349
CREATED:20250917T173123Z
LAST-MODIFIED:20250917T173123Z
UID:10001579-1771200000-1771631999@www.clackesd.org
SUMMARY:No early childhood special education services/classes
DESCRIPTION:
URL:https://www.clackesd.org/events/no-early-childhood-special-education-services-classes-8/
CATEGORIES:ECSE Program Calendar
END:VEVENT
END:VCALENDAR